BEGIN:VCALENDAR
VERSION:2.0
PRODID:-//Mila - ECPv6.15.16//NONSGML v1.0//EN
CALSCALE:GREGORIAN
METHOD:PUBLISH
X-WR-CALNAME:Mila
X-ORIGINAL-URL:https://www.milaparis.fr
X-WR-CALDESC:Évènements pour Mila
REFRESH-INTERVAL;VALUE=DURATION:PT1H
X-Robots-Tag:noindex
X-PUBLISHED-TTL:PT1H
BEGIN:VTIMEZONE
TZID:Europe/Paris
BEGIN:DAYLIGHT
TZOFFSETFROM:+0100
TZOFFSETTO:+0200
TZNAME:CEST
DTSTART:20240331T010000
END:DAYLIGHT
BEGIN:STANDARD
TZOFFSETFROM:+0200
TZOFFSETTO:+0100
TZNAME:CET
DTSTART:20241027T010000
END:STANDARD
BEGIN:DAYLIGHT
TZOFFSETFROM:+0100
TZOFFSETTO:+0200
TZNAME:CEST
DTSTART:20250330T010000
END:DAYLIGHT
BEGIN:STANDARD
TZOFFSETFROM:+0200
TZOFFSETTO:+0100
TZNAME:CET
DTSTART:20251026T010000
END:STANDARD
BEGIN:DAYLIGHT
TZOFFSETFROM:+0100
TZOFFSETTO:+0200
TZNAME:CEST
DTSTART:20260329T010000
END:DAYLIGHT
BEGIN:STANDARD
TZOFFSETFROM:+0200
TZOFFSETTO:+0100
TZNAME:CET
DTSTART:20261025T010000
END:STANDARD
END:VTIMEZONE
BEGIN:VEVENT
DTSTART;TZID=Europe/Paris:20250526T180000
DTEND;TZID=Europe/Paris:20250526T203000
DTSTAMP:20260420T155630
CREATED:20250515T092323Z
LAST-MODIFIED:20250908T124108Z
UID:6085-1748282400-1748291400@www.milaparis.fr
SUMMARY:ATELIER MIL.IA – « Les enjeux de l’IA dans la production audio »
DESCRIPTION:RÉSERVÉ AUX ADHÉRENT.E.S.
URL:https://www.milaparis.fr/event/atelier-mil-ia-les-enjeux-de-lia-dans-la-production-audio/
LOCATION:Le MILA\, 2 Rue André Messager\, 75018 Paris\, Paris\, 75018\, France
ATTACH;FMTTYPE=image/png:https://www.milaparis.fr/wp-content/uploads/2025/05/LES-ATELIERS-MIL.IA-2.png
END:VEVENT
END:VCALENDAR